BEGIN:VCALENDAR
VERSION:2.0
PRODID:-//Sunlight Church - ECPv6.9.0//NONSGML v1.0//EN
CALSCALE:GREGORIAN
METHOD:PUBLISH
X-WR-CALNAME:Sunlight Church
X-ORIGINAL-URL:https://slw.sunlightchurch.com
X-WR-CALDESC:Events for Sunlight Church
REFRESH-INTERVAL;VALUE=DURATION:PT1H
X-Robots-Tag:noindex
X-PUBLISHED-TTL:PT1H
BEGIN:VTIMEZONE
TZID:America/New_York
BEGIN:DAYLIGHT
TZOFFSETFROM:-0500
TZOFFSETTO:-0400
TZNAME:EDT
DTSTART:20250309T070000
END:DAYLIGHT
BEGIN:STANDARD
TZOFFSETFROM:-0400
TZOFFSETTO:-0500
TZNAME:EST
DTSTART:20251102T060000
END:STANDARD
END:VTIMEZONE
BEGIN:VEVENT
DTSTART;TZID=America/New_York:20250212T190000
DTEND;TZID=America/New_York:20250212T210000
DTSTAMP:20260423T070940
CREATED:20241111T131318Z
LAST-MODIFIED:20250212T231253Z
UID:12887-1739386800-1739394000@slw.sunlightchurch.com
SUMMARY:Bible Study "The Path"
DESCRIPTION:
URL:https://slw.sunlightchurch.com/calendar/bible-study-the-path-54/
LOCATION:Classroom C
END:VEVENT
BEGIN:VEVENT
DTSTART;TZID=America/New_York:20250212T180000
DTEND;TZID=America/New_York:20250212T193000
DTSTAMP:20260423T070940
CREATED:20241111T131319Z
LAST-MODIFIED:20250212T231253Z
UID:12888-1739383200-1739388600@slw.sunlightchurch.com
SUMMARY:St. Lucie County Jail Ministry
DESCRIPTION:
URL:https://slw.sunlightchurch.com/calendar/st-lucie-county-jail-ministry-34/
LOCATION:900 N Rock Rd\, Fort Pierce\, FL\, United States
END:VEVENT
BEGIN:VEVENT
DTSTART;TZID=America/New_York:20250212T130000
DTEND;TZID=America/New_York:20250212T143000
DTSTAMP:20260423T070940
CREATED:20241111T131318Z
LAST-MODIFIED:20250211T205828Z
UID:12885-1739365200-1739370600@slw.sunlightchurch.com
SUMMARY:Women's Bible Study: Romans
DESCRIPTION:Join our Women’s Bible Study\, led by Pam Shyrock\, in person or on Zoom. Let’s grow together in faith.–Join Us Online Here:https://us02web.zoom.us/j/88966303486?pwd=TCt1VkxZc2RETDNwQm04MjdybTdWUT09–Meeting ID: 889 6630 3486Passcode: sunlight
URL:https://slw.sunlightchurch.com/calendar/womens-bible-study-romans-20/
LOCATION:Classroom A
END:VEVENT
BEGIN:VEVENT
DTSTART;TZID=America/New_York:20250212T130000
DTEND;TZID=America/New_York:20250212T140000
DTSTAMP:20260423T070940
CREATED:20241110T125335Z
LAST-MODIFIED:20250211T205828Z
UID:12883-1739365200-1739368800@slw.sunlightchurch.com
SUMMARY:Co-Ed Heidelberg Catechism
DESCRIPTION:Join our Heidelberg Catechism Group for spiritual growth! Mondays or Wednesdays\, at 5:00pm (varies). Connect in person at the home group or on Zoom. Led by Jesus Bayona & Carol Soka.
URL:https://slw.sunlightchurch.com/calendar/co-ed-heidelberg-catechism-21/
LOCATION:Home Group & Zoom – Hybrid
END:VEVENT
BEGIN:VEVENT
DTSTART;TZID=America/New_York:20250212T110000
DTEND;TZID=America/New_York:20250212T130000
DTSTAMP:20260423T070940
CREATED:20241109T122240Z
LAST-MODIFIED:20241212T233858Z
UID:12880-1739358000-1739365200@slw.sunlightchurch.com
SUMMARY:Womens Craft Group
DESCRIPTION:Calling all crafty women! Join Sandra McGibbons and Sandy Wallace on the 2nd Wednesday each month\, 11am-1pm\, in Classroom A. Let’s craft and have fun together!–Join Here:https://sunlightcc.churchcenter.com/groups/port-st-lucie-campus/women-s-craft-group
URL:https://slw.sunlightchurch.com/calendar/womens-craft-group-19/
LOCATION:Classroom A
END:VEVENT
BEGIN:VEVENT
DTSTART;TZID=America/New_York:20250212T093000
DTEND;TZID=America/New_York:20250212T113000
DTSTAMP:20260423T070940
CREATED:20241108T121234Z
LAST-MODIFIED:20250211T205828Z
UID:12875-1739352600-1739359800@slw.sunlightchurch.com
SUMMARY:Moms Group
DESCRIPTION:
URL:https://slw.sunlightchurch.com/calendar/moms-group-41/
LOCATION:FL
END:VEVENT
BEGIN:VEVENT
DTSTART;TZID=America/New_York:20250211T190000
DTEND;TZID=America/New_York:20250211T210000
DTSTAMP:20260423T070940
CREATED:20241107T120839Z
LAST-MODIFIED:20241218T060834Z
UID:12865-1739300400-1739307600@slw.sunlightchurch.com
SUMMARY:Pickleball
DESCRIPTION:
URL:https://slw.sunlightchurch.com/calendar/pickleball-22/
LOCATION:Fellowship Hall
END:VEVENT
BEGIN:VEVENT
DTSTART;TZID=America/New_York:20250211T190000
DTEND;TZID=America/New_York:20250211T200000
DTSTAMP:20260423T070940
CREATED:20241108T121233Z
LAST-MODIFIED:20250211T205828Z
UID:12872-1739300400-1739304000@slw.sunlightchurch.com
SUMMARY:Women's Zoom Bible Study - Exodus
DESCRIPTION:Are you looking for an online Bible Study specifically for women? Join this group led by Beth Hernandez & Winnie Jean Louis on Zoom! In the book of Genesis\, we learn about the beginning of the world\, ourselves\, and the world as we know it today. Most importantly\, we learn about a good God who is committed to his creation and is actively involved in guiding it toward good again! Join us as we discover our stories in the beginning of the story!
URL:https://slw.sunlightchurch.com/calendar/womens-zoom-bible-study-exodus-54/
LOCATION:Zoom
END:VEVENT
BEGIN:VEVENT
DTSTART;TZID=America/New_York:20250211T183000
DTEND;TZID=America/New_York:20250211T203000
DTSTAMP:20260423T070940
CREATED:20241217T055811Z
LAST-MODIFIED:20250211T205828Z
UID:13213-1739298600-1739305800@slw.sunlightchurch.com
SUMMARY:MS/HS Youth Group
DESCRIPTION:
URL:https://slw.sunlightchurch.com/calendar/ms-hs-youth-group-9/
LOCATION:Sunlight Community Church of Port Saint Lucie\, 5801 NW Lisa Ct\, Port Saint Lucie\, FL\, United States
END:VEVENT
BEGIN:VEVENT
DTSTART;TZID=America/New_York:20250211T183000
DTEND;TZID=America/New_York:20250211T203000
DTSTAMP:20260423T070940
CREATED:20241108T121234Z
LAST-MODIFIED:20241216T041823Z
UID:12874-1739298600-1739305800@slw.sunlightchurch.com
SUMMARY:High School Youth Group
DESCRIPTION:Calling all 9th-12th graders! Join our Youth Group from 6:30-8:30 p.m. It's a place to belong and grow in the gospel. Don't miss out on this opportunity to connect\, have fun\, and discover your true self!
URL:https://slw.sunlightchurch.com/calendar/high-school-youth-group-59/
LOCATION:PGA Campus
END:VEVENT
BEGIN:VEVENT
DTSTART;TZID=America/New_York:20250211T115000
DTEND;TZID=America/New_York:20250211T130000
DTSTAMP:20260423T070940
CREATED:20241107T120838Z
LAST-MODIFIED:20250210T201752Z
UID:12864-1739274600-1739278800@slw.sunlightchurch.com
SUMMARY:PRoS - Tuesday's SLW Classroom A and Online
DESCRIPTION:Public Reading of Scripture helps us remember who God is\, who we are\, and who God calls us to be. If you try to read through the whole Bible on your own\, it’s easy to get sidetracked. Listening in a community provides a natural community. This is an easy\, accessible way for anyone to get into Scripture. Hearing the Bible read aloud offers a different perspective than reading silently. Listening to the words allows us to absorb the content more deeply.  \nWe spend about 45 min listening to a dramatic reading of scripture (NLT). Then we spend 15 min talking about what we thought about. Join us in-person in our Sunlight Living Room!  Lunch provided!\nJoin with Google Meet: https://meet.google.com/txp-kegs-wau\nOr dial: (US) +1 916-318-8182 PIN: 249929357#\nMore phone numbers: https://tel.meet/txp-kegs-wau?pin=6623404611171&hs=7\nLearn more about Meet at: https://support.google.com/a/users/answer/9282720
URL:https://slw.sunlightchurch.com/calendar/pros-tuesdays-slw-classroom-a-and-online-21/
LOCATION:FL
END:VEVENT
BEGIN:VEVENT
DTSTART;TZID=America/New_York:20250211T100000
DTEND;TZID=America/New_York:20250211T113000
DTSTAMP:20260423T070940
CREATED:20241107T120838Z
LAST-MODIFIED:20250210T201751Z
UID:12863-1739268000-1739273400@slw.sunlightchurch.com
SUMMARY:Women's Community Group: Joy in the Word
DESCRIPTION:Led by Becky Nicholson
URL:https://slw.sunlightchurch.com/calendar/womens-community-group-joy-in-the-word-53/
LOCATION:Classroom A
END:VEVENT
BEGIN:VEVENT
DTSTART;TZID=America/New_York:20250211T100000
DTEND;TZID=America/New_York:20250211T110000
DTSTAMP:20260423T070940
CREATED:20241107T120838Z
LAST-MODIFIED:20250210T201750Z
UID:12862-1739268000-1739271600@slw.sunlightchurch.com
SUMMARY:Intercessory Prayer Group
DESCRIPTION:Weekly Prayer Meeting lead by Hanna Robinson in the Prayer Room.  
URL:https://slw.sunlightchurch.com/calendar/intercessory-prayer-group-87/
LOCATION:Prayer Room
END:VEVENT
BEGIN:VEVENT
DTSTART;TZID=America/New_York:20250211T090000
DTEND;TZID=America/New_York:20250211T100000
DTSTAMP:20260423T070940
CREATED:20241107T120838Z
LAST-MODIFIED:20250210T201751Z
UID:12861-1739264400-1739268000@slw.sunlightchurch.com
SUMMARY:Upper Room Prayer Group
DESCRIPTION:The Global Prayer Team is a watchmen prayer team led by Hanna Robinson where they pray exclusively for Sunlight Community Church\, the church worldwide\, our nation\, and the nations\, in whatever way the Holy Spirit directs. –(Watchmen Prayer) “I will stand at my watch…” – Habakkuk 2:1“Blessed is the one who listens to me\, watching daily at my gates\, waiting beside my doors.” – Proverbs 8:34
URL:https://slw.sunlightchurch.com/calendar/upper-room-prayer-group-106/
LOCATION:Prayer Room
END:VEVENT
BEGIN:VEVENT
DTSTART;TZID=America/New_York:20250210T183000
DTEND;TZID=America/New_York:20250210T200000
DTSTAMP:20260423T070940
CREATED:20241106T120029Z
LAST-MODIFIED:20250210T201749Z
UID:12851-1739212200-1739217600@slw.sunlightchurch.com
SUMMARY:Sunlight Kids Night
DESCRIPTION:Join us at the St Lucie West Campus on the 2nd and 4th Mondays of the school year from September- April.    \nThere are three kids clubs to choose from:Pajama Jam for kids in VPK and KindergartenGEMS Girl’s Club for girls in 1st-8th gradeCIA Boy’s Club for boys in 1st-8th grade \nFor more information\, please visit https://sunlightcc.churchcenter.com/registrations/events/2369311
URL:https://slw.sunlightchurch.com/calendar/sunlight-kids-night-7/
LOCATION:FL
END:VEVENT
BEGIN:VEVENT
DTSTART;TZID=America/New_York:20250210T110000
DTEND;TZID=America/New_York:20250210T123000
DTSTAMP:20260423T070940
CREATED:20241106T120029Z
LAST-MODIFIED:20250209T192643Z
UID:12850-1739185200-1739190600@slw.sunlightchurch.com
SUMMARY:Ministry Outreach Service
DESCRIPTION:Ministry Outreach Points bring a Sunlight worship service to communities who are unable to physically attend regular Sunday services.  We meet every Monday at Watercrest at 11am.
URL:https://slw.sunlightchurch.com/calendar/ministry-outreach-service-62/
LOCATION:Watercrest 279 NW California Blvd\, 5801 NW Lisa Ct\, Port Saint Lucie\, FL\, United States
END:VEVENT
BEGIN:VEVENT
DTSTART;TZID=America/New_York:20250209T170000
DTEND;TZID=America/New_York:20250209T180000
DTSTAMP:20260423T070940
CREATED:20250130T114730Z
LAST-MODIFIED:20250209T192643Z
UID:13565-1739120400-1739124000@slw.sunlightchurch.com
SUMMARY:Evening Service
DESCRIPTION:The Psalter\nJoin us for a traditional evening service as we journey through the Psalms. Each Sunday at 5pm during February and March\, we will gather for worship\, reflection\, and a deeper understanding of God's Word.
URL:https://slw.sunlightchurch.com/calendar/evening-service-10/
LOCATION:Sanctuary
END:VEVENT
BEGIN:VEVENT
DTSTART;TZID=America/New_York:20250209T103000
DTEND;TZID=America/New_York:20250209T120000
DTSTAMP:20260423T070940
CREATED:20241106T120029Z
LAST-MODIFIED:20250208T182453Z
UID:12849-1739097000-1739102400@slw.sunlightchurch.com
SUMMARY:Worship Service
DESCRIPTION:You’re invited to our Sunday Morning Worship service! Join us for an uplifting time of worship\, thought-provoking sermons by one of our pastors\, and meaningful fellowship. Come as you are\, and let’s grow in faith together. We look forward to sharing this inspiring journey with you. See you there!
URL:https://slw.sunlightchurch.com/calendar/worship-service-101/
LOCATION:Sanctuary
END:VEVENT
BEGIN:VEVENT
DTSTART;TZID=America/New_York:20250209T100000
DTEND;TZID=America/New_York:20250209T101500
DTSTAMP:20260423T070940
CREATED:20241106T120010Z
LAST-MODIFIED:20250208T182453Z
UID:12848-1739095200-1739096100@slw.sunlightchurch.com
SUMMARY:Hide the Word Scripture Memory Group Co-Ed
DESCRIPTION:In this group led by Brenda & Pastor Scott\, our Scripture Memory Group gathers weekly to encourage one another to memorize Scripture. –Ask to join: https://sunlightcc.churchcenter.com/groups/port-st-lucie-campus/coed-scripture-memory-group
URL:https://slw.sunlightchurch.com/calendar/hide-the-word-scripture-memory-group-co-ed-23/
LOCATION:Classroom A
END:VEVENT
BEGIN:VEVENT
DTSTART;TZID=America/New_York:20250209T090000
DTEND;TZID=America/New_York:20250209T094500
DTSTAMP:20260423T070940
CREATED:20241106T120010Z
LAST-MODIFIED:20250208T182452Z
UID:12847-1739091600-1739094300@slw.sunlightchurch.com
SUMMARY:Men's Sunday Group
DESCRIPTION:Are you looking for a Bible Study on Sunday morning before church? Join David Liddle’s Sunday morning Bible study for men! Dive into scripture\, discuss faith\, and grow spiritually together. Start your Sundays with wisdom and fellowship!
URL:https://slw.sunlightchurch.com/calendar/mens-sunday-group-77/
LOCATION:Classroom B
END:VEVENT
BEGIN:VEVENT
DTSTART;TZID=America/New_York:20250208T180000
DTEND;TZID=America/New_York:20250208T193000
DTSTAMP:20260423T070940
CREATED:20241106T120010Z
LAST-MODIFIED:20250208T182452Z
UID:12846-1739037600-1739043000@slw.sunlightchurch.com
SUMMARY:Father/ Daughter Dance 6:00-7:30pm
DESCRIPTION:We are excited to invite you to our annual Father-Daughter Dance! It’s a night full of fun\, laughter\, and special moments.  Get ready for an evening filled with music\, dancing\, and great memories! \nTime:  6:00-7:30pm \nTicket price:  $25/ family \nDress your best\, bring your dancing shoes\, and get ready for an unforgettable evening! Light refreshments will be served. This is a special event for all dads (or father figures) and sons. \nQuestions?  Reach out to Andrea Vander Ploeg at andrea@sunlightcc.org
URL:https://slw.sunlightchurch.com/calendar/father-daughter-dance-600-730pm/
LOCATION:FL
END:VEVENT
BEGIN:VEVENT
DTSTART;TZID=America/New_York:20250208T150000
DTEND;TZID=America/New_York:20250208T163000
DTSTAMP:20260423T070940
CREATED:20241106T120010Z
LAST-MODIFIED:20250208T182452Z
UID:12845-1739026800-1739032200@slw.sunlightchurch.com
SUMMARY:Father/ Daughter Dance 3:00-4:30pm
DESCRIPTION:We are excited to invite you to our annual Father-Daughter Dance! It’s a night full of fun\, laughter\, and special moments.  Get ready for an evening filled with music\, dancing\, and great memories! \nTime:  3:00-4:30pm \nTicket price:  $25/ family \nDress your best\, bring your dancing shoes\, and get ready for an unforgettable evening! Light refreshments will be served. This is a special event for all dads (or father figures) and sons. \nQuestions?  Reach out to Andrea Vander Ploeg at andrea@sunlightcc.org
URL:https://slw.sunlightchurch.com/calendar/father-daughter-dance-300-430pm/
LOCATION:FL
END:VEVENT
BEGIN:VEVENT
DTSTART;TZID=America/New_York:20250208T090000
DTEND;TZID=America/New_York:20250208T110000
DTSTAMP:20260423T070940
CREATED:20241105T111846Z
LAST-MODIFIED:20241114T134929Z
UID:12841-1739005200-1739012400@slw.sunlightchurch.com
SUMMARY:Men's Breakfast
DESCRIPTION:Join us for a monthly men’s breakfast at Golden Corral in St. Lucie West! Let’s come together to enjoy good food\, great company\, and meaningful conversations about Jesus. Don’t miss this chance to connect and grow spiritually!
URL:https://slw.sunlightchurch.com/calendar/mens-breakfast-21/
LOCATION:Golden Corral Buffet & Grill\, 5801 NW Lisa Ct\, Port Saint Lucie\, FL\, United States
END:VEVENT
BEGIN:VEVENT
DTSTART;TZID=America/New_York:20250207T183000
DTEND;TZID=America/New_York:20250207T200000
DTSTAMP:20260423T070940
CREATED:20241105T111846Z
LAST-MODIFIED:20250207T175646Z
UID:12840-1738953000-1738958400@slw.sunlightchurch.com
SUMMARY:Mother/ Son Dance 6:30-8:00pm
DESCRIPTION:We are excited to invite you to our Mother-Son Dance! It’s a night full of fun\, laughter\, and special moments.  Get ready for an evening filled with music\, dancing\, and great memories! \nTime:  6:30-8:00pm \nTicket price:  $25/ family \nDress your best\, bring your dancing shoes\, and get ready for an unforgettable evening! Light refreshments will be served. This is a special event for all mothers (or mother figures) and sons. \nQuestions?  Reach out to Andrea Vander Ploeg at andrea@sunlightcc.org
URL:https://slw.sunlightchurch.com/calendar/mother-son-dance-630-800pm/
LOCATION:477 SW Cashmere Blvd\, 5801 NW Lisa Ct\, Port Saint Lucie\, FL\, United States
END:VEVENT
BEGIN:VEVENT
DTSTART;TZID=America/New_York:20250207T080000
DTEND;TZID=America/New_York:20250207T084500
DTSTAMP:20260423T070940
CREATED:20241104T110754Z
LAST-MODIFIED:20250206T170937Z
UID:12832-1738915200-1738917900@slw.sunlightchurch.com
SUMMARY:Two or More Prayer Group
DESCRIPTION:Want to pray\, but aren’t sure how?   Desire to join other women who believe in the power of prayer? \nJoin us at Two or More\, where we will pray for our families\, schools\, churches\, and more\, within a warm & welcoming community of women.    \n“For where two or three gather in my name\, there am I with them.” – Matthew 18:20
URL:https://slw.sunlightchurch.com/calendar/two-or-more-prayer-group-37/
LOCATION:Classroom A
END:VEVENT
BEGIN:VEVENT
DTSTART;TZID=America/New_York:20250206T183000
DTEND;TZID=America/New_York:20250206T203000
DTSTAMP:20260423T070940
CREATED:20241104T110753Z
LAST-MODIFIED:20241218T060758Z
UID:12831-1738866600-1738873800@slw.sunlightchurch.com
SUMMARY:Middle School Youth Group
DESCRIPTION:Calling all 6th-8th graders! Join our Youth Group on Thursdays from 6:30-8:30 p.m. It’s a place to belong and grow in the gospel. Don’t miss out on this opportunity to connect\, have fun\, and discover your true self!
URL:https://slw.sunlightchurch.com/calendar/middle-school-youth-group-84/
LOCATION:PGA Campus
END:VEVENT
BEGIN:VEVENT
DTSTART;TZID=America/New_York:20250206T100000
DTEND;TZID=America/New_York:20250206T113000
DTSTAMP:20260423T070940
CREATED:20241104T110753Z
LAST-MODIFIED:20250205T165045Z
UID:12830-1738836000-1738841400@slw.sunlightchurch.com
SUMMARY:Women's Community Group: The Lens
DESCRIPTION:Led by: Pam Torr\nThis group meets weekly to study various Bible topics throughout the year .
URL:https://slw.sunlightchurch.com/calendar/womens-community-group-the-lens-21/
LOCATION:Classroom A
END:VEVENT
BEGIN:VEVENT
DTSTART;TZID=America/New_York:20250206T070000
DTEND;TZID=America/New_York:20250206T080000
DTSTAMP:20260423T070940
CREATED:20241104T110751Z
LAST-MODIFIED:20250205T165045Z
UID:12829-1738825200-1738828800@slw.sunlightchurch.com
SUMMARY:Public Reading of Scripture
DESCRIPTION:Public Reading of Scripture helps us remember who God is\, who we are\, and who God calls us to be. If you try to read through the whole Bible on your own\, it’s easy to get sidetracked. Listening in a community provides a natural community. This is an easy\, accessible way for anyone to get into Scripture. Join this group led by our Senior Pastor\, Scott Vander Ploeg! \nWe spend about 45 min listening to a dramatic reading of scripture (NLT). Then we spend 15 min talking about what we thought about. Join us online or in-person in Classroom B! \nZOOM Meeting ID: 860 9487 1173Passcode: Sunlight
URL:https://slw.sunlightchurch.com/calendar/public-reading-of-scripture-221/
LOCATION:Classroom B & Zoom
END:VEVENT
BEGIN:VEVENT
DTSTART;TZID=America/New_York:20250205T190000
DTEND;TZID=America/New_York:20250205T210000
DTSTAMP:20260423T070940
CREATED:20241104T110751Z
LAST-MODIFIED:20250205T165045Z
UID:12828-1738782000-1738789200@slw.sunlightchurch.com
SUMMARY:Bible Study "The Path"
DESCRIPTION:
URL:https://slw.sunlightchurch.com/calendar/bible-study-the-path-53/
LOCATION:Classroom C
END:VEVENT
BEGIN:VEVENT
DTSTART;TZID=America/New_York:20250205T190000
DTEND;TZID=America/New_York:20250205T210000
DTSTAMP:20260423T070940
CREATED:20241104T110750Z
LAST-MODIFIED:20250205T165045Z
UID:12827-1738782000-1738789200@slw.sunlightchurch.com
SUMMARY:Life Transformation Co-Ed Group
DESCRIPTION:
URL:https://slw.sunlightchurch.com/calendar/life-transformation-co-ed-group-98/
LOCATION:Classroom A
END:VEVENT
END:VCALENDAR