BEGIN:VCALENDAR
VERSION:2.0
PRODID:-//Sunlight Church - ECPv6.9.0//NONSGML v1.0//EN
CALSCALE:GREGORIAN
METHOD:PUBLISH
X-WR-CALNAME:Sunlight Church
X-ORIGINAL-URL:https://slw.sunlightchurch.com
X-WR-CALDESC:Events for Sunlight Church
REFRESH-INTERVAL;VALUE=DURATION:PT1H
X-Robots-Tag:noindex
X-PUBLISHED-TTL:PT1H
BEGIN:VTIMEZONE
TZID:America/New_York
BEGIN:DAYLIGHT
TZOFFSETFROM:-0500
TZOFFSETTO:-0400
TZNAME:EDT
DTSTART:20250309T070000
END:DAYLIGHT
BEGIN:STANDARD
TZOFFSETFROM:-0400
TZOFFSETTO:-0500
TZNAME:EST
DTSTART:20251102T060000
END:STANDARD
END:VTIMEZONE
BEGIN:VEVENT
DTSTART;TZID=America/New_York:20250304T183000
DTEND;TZID=America/New_York:20250304T203000
DTSTAMP:20260422T154240
CREATED:20241128T183905Z
LAST-MODIFIED:20241216T041846Z
UID:13057-1741113000-1741120200@slw.sunlightchurch.com
SUMMARY:High School Youth Group
DESCRIPTION:Calling all 9th-12th graders! Join our Youth Group from 6:30-8:30 p.m. It's a place to belong and grow in the gospel. Don't miss out on this opportunity to connect\, have fun\, and discover your true self!
URL:https://slw.sunlightchurch.com/calendar/high-school-youth-group-62/
LOCATION:PGA Campus
END:VEVENT
BEGIN:VEVENT
DTSTART;TZID=America/New_York:20250304T115000
DTEND;TZID=America/New_York:20250304T130000
DTSTAMP:20260422T154240
CREATED:20241128T183905Z
LAST-MODIFIED:20250304T114738Z
UID:13055-1741089000-1741093200@slw.sunlightchurch.com
SUMMARY:PRoS - Tuesday's SLW Classroom A and Online
DESCRIPTION:Public Reading of Scripture helps us remember who God is\, who we are\, and who God calls us to be. If you try to read through the whole Bible on your own\, it’s easy to get sidetracked. Listening in a community provides a natural community. This is an easy\, accessible way for anyone to get into Scripture. Hearing the Bible read aloud offers a different perspective than reading silently. Listening to the words allows us to absorb the content more deeply.  \nWe spend about 45 min listening to a dramatic reading of scripture (NLT). Then we spend 15 min talking about what we thought about. Join us in-person in our Sunlight Living Room!  Lunch provided!\nJoin with Google Meet: https://meet.google.com/txp-kegs-wau\nOr dial: (US) +1 916-318-8182 PIN: 249929357#\nMore phone numbers: https://tel.meet/txp-kegs-wau?pin=6623404611171&hs=7\nLearn more about Meet at: https://support.google.com/a/users/answer/9282720
URL:https://slw.sunlightchurch.com/calendar/pros-tuesdays-slw-classroom-a-and-online-24/
END:VEVENT
BEGIN:VEVENT
DTSTART;TZID=America/New_York:20250304T100000
DTEND;TZID=America/New_York:20250304T113000
DTSTAMP:20260422T154240
CREATED:20241127T180020Z
LAST-MODIFIED:20250304T114737Z
UID:13047-1741082400-1741087800@slw.sunlightchurch.com
SUMMARY:Women's Community Group: Joy in the Word
DESCRIPTION:Led by Becky Nicholson
URL:https://slw.sunlightchurch.com/calendar/womens-community-group-joy-in-the-word-56/
LOCATION:Classroom A
END:VEVENT
BEGIN:VEVENT
DTSTART;TZID=America/New_York:20250304T100000
DTEND;TZID=America/New_York:20250304T110000
DTSTAMP:20260422T154240
CREATED:20241127T180021Z
LAST-MODIFIED:20250304T114737Z
UID:13048-1741082400-1741086000@slw.sunlightchurch.com
SUMMARY:Intercessory Prayer Group
DESCRIPTION:Weekly Prayer Meeting lead by Hanna Robinson in the Prayer Room.  
URL:https://slw.sunlightchurch.com/calendar/intercessory-prayer-group-90/
LOCATION:Prayer Room
END:VEVENT
BEGIN:VEVENT
DTSTART;TZID=America/New_York:20250304T090000
DTEND;TZID=America/New_York:20250304T100000
DTSTAMP:20260422T154240
CREATED:20241127T180022Z
LAST-MODIFIED:20250304T114737Z
UID:13049-1741078800-1741082400@slw.sunlightchurch.com
SUMMARY:Upper Room Prayer Group
DESCRIPTION:The Global Prayer Team is a watchmen prayer team led by Hanna Robinson where they pray exclusively for Sunlight Community Church\, the church worldwide\, our nation\, and the nations\, in whatever way the Holy Spirit directs. –(Watchmen Prayer) “I will stand at my watch…” – Habakkuk 2:1“Blessed is the one who listens to me\, watching daily at my gates\, waiting beside my doors.” – Proverbs 8:34
URL:https://slw.sunlightchurch.com/calendar/upper-room-prayer-group-109/
LOCATION:Prayer Room
END:VEVENT
BEGIN:VEVENT
DTSTART;TZID=America/New_York:20250303T190000
DTEND;TZID=America/New_York:20250303T203000
DTSTAMP:20260422T154240
CREATED:20241127T180020Z
LAST-MODIFIED:20250303T111809Z
UID:13046-1741028400-1741033800@slw.sunlightchurch.com
SUMMARY:Men's Monday Group
DESCRIPTION:Are you looking for a men’s group that meets every other Monday and goes through the Bible? Join this group led by Josh Sackrowitz & Chuck Callaway! Dive into scripture\, discuss faith\, and grow spiritually together. Start your week with wisdom and fellowship. All men are welcome!
URL:https://slw.sunlightchurch.com/calendar/mens-monday-group-46/
LOCATION:Classroom A
END:VEVENT
BEGIN:VEVENT
DTSTART;TZID=America/New_York:20250303T110000
DTEND;TZID=America/New_York:20250303T123000
DTSTAMP:20260422T154240
CREATED:20241126T175847Z
LAST-MODIFIED:20250303T111809Z
UID:13041-1740999600-1741005000@slw.sunlightchurch.com
SUMMARY:Ministry Outreach Service
DESCRIPTION:Ministry Outreach Points bring a Sunlight worship service to communities who are unable to physically attend regular Sunday services.  We meet every Monday at Watercrest at 11am.
URL:https://slw.sunlightchurch.com/calendar/ministry-outreach-service-65/
LOCATION:Watercrest 279 NW California Blvd\, 5801 NW Lisa Ct\, Port Saint Lucie\, FL\, United States
END:VEVENT
BEGIN:VEVENT
DTSTART;TZID=America/New_York:20250302T170000
DTEND;TZID=America/New_York:20250302T180000
DTSTAMP:20260422T154240
CREATED:20250130T114735Z
LAST-MODIFIED:20250302T102142Z
UID:13568-1740934800-1740938400@slw.sunlightchurch.com
SUMMARY:Evening Service
DESCRIPTION:The Psalter\nJoin us for a traditional evening service as we journey through the Psalms. Each Sunday at 5pm during February and March\, we will gather for worship\, reflection\, and a deeper understanding of God's Word.
URL:https://slw.sunlightchurch.com/calendar/evening-service-13/
LOCATION:Sanctuary
END:VEVENT
BEGIN:VEVENT
DTSTART;TZID=America/New_York:20250302T120000
DTEND;TZID=America/New_York:20250302T130000
DTSTAMP:20260422T154240
CREATED:20241126T175847Z
LAST-MODIFIED:20250302T102142Z
UID:13039-1740916800-1740920400@slw.sunlightchurch.com
SUMMARY:Sunlight Family Meal
DESCRIPTION:Join us every first Sunday of the month for a time of fellowship with delicious food\, friends\, and family.
URL:https://slw.sunlightchurch.com/calendar/sunlight-family-meal-15/
LOCATION:Fellowship Hall
END:VEVENT
BEGIN:VEVENT
DTSTART;TZID=America/New_York:20250302T103000
DTEND;TZID=America/New_York:20250302T120000
DTSTAMP:20260422T154240
CREATED:20241126T175847Z
LAST-MODIFIED:20250302T102142Z
UID:13040-1740911400-1740916800@slw.sunlightchurch.com
SUMMARY:Worship Service
DESCRIPTION:You’re invited to our Sunday Morning Worship service! Join us for an uplifting time of worship\, thought-provoking sermons by one of our pastors\, and meaningful fellowship. Come as you are\, and let’s grow in faith together. We look forward to sharing this inspiring journey with you. See you there!
URL:https://slw.sunlightchurch.com/calendar/worship-service-104/
LOCATION:Sanctuary
END:VEVENT
BEGIN:VEVENT
DTSTART;TZID=America/New_York:20250302T100000
DTEND;TZID=America/New_York:20250302T101500
DTSTAMP:20260422T154240
CREATED:20241125T173109Z
LAST-MODIFIED:20250302T102142Z
UID:13036-1740909600-1740910500@slw.sunlightchurch.com
SUMMARY:Hide the Word Scripture Memory Group Co-Ed
DESCRIPTION:In this group led by Brenda & Pastor Scott\, our Scripture Memory Group gathers weekly to encourage one another to memorize Scripture. –Ask to join: https://sunlightcc.churchcenter.com/groups/port-st-lucie-campus/coed-scripture-memory-group
URL:https://slw.sunlightchurch.com/calendar/hide-the-word-scripture-memory-group-co-ed-26/
LOCATION:Classroom A
END:VEVENT
BEGIN:VEVENT
DTSTART;TZID=America/New_York:20250302T090000
DTEND;TZID=America/New_York:20250302T094500
DTSTAMP:20260422T154240
CREATED:20241124T171446Z
LAST-MODIFIED:20250302T102142Z
UID:13030-1740906000-1740908700@slw.sunlightchurch.com
SUMMARY:Men's Sunday Group
DESCRIPTION:Are you looking for a Bible Study on Sunday morning before church? Join David Liddle’s Sunday morning Bible study for men! Dive into scripture\, discuss faith\, and grow spiritually together. Start your Sundays with wisdom and fellowship!
URL:https://slw.sunlightchurch.com/calendar/mens-sunday-group-80/
LOCATION:Classroom B
END:VEVENT
BEGIN:VEVENT
DTSTART;VALUE=DATE:20250302
DTEND;VALUE=DATE:20250303
DTSTAMP:20260422T154240
CREATED:20241124T171446Z
LAST-MODIFIED:20250302T102142Z
UID:13031-1740873600-1740959999@slw.sunlightchurch.com
SUMMARY:Communion
DESCRIPTION:Join us for a transformative experience of Communion during service! We as Christians will take time to remember and believe that Jesus Christ is our one true King as we celebrate Communion together.
URL:https://slw.sunlightchurch.com/calendar/communion-21/
LOCATION:Sanctuary
END:VEVENT
BEGIN:VEVENT
DTSTART;TZID=America/New_York:20250301T090000
DTEND;TZID=America/New_York:20250301T110000
DTSTAMP:20260422T154240
CREATED:20241124T171445Z
LAST-MODIFIED:20250301T101626Z
UID:13029-1740819600-1740826800@slw.sunlightchurch.com
SUMMARY:Sunlight Park Day
DESCRIPTION:Sunlight is opening it's playground for moms\, to make it easier for us to chat and make new friends while our children play. This is a safe space for all to enjoy and get to know one another.
URL:https://slw.sunlightchurch.com/calendar/sunlight-park-day-5/
LOCATION:SCA Playground
END:VEVENT
BEGIN:VEVENT
DTSTART;TZID=America/New_York:20250228T080000
DTEND;TZID=America/New_York:20250228T084500
DTSTAMP:20260422T154240
CREATED:20241122T164413Z
LAST-MODIFIED:20250228T100118Z
UID:13024-1740729600-1740732300@slw.sunlightchurch.com
SUMMARY:Two or More Prayer Group
DESCRIPTION:Want to pray\, but aren’t sure how?   Desire to join other women who believe in the power of prayer? \nJoin us at Two or More\, where we will pray for our families\, schools\, churches\, and more\, within a warm & welcoming community of women.    \n“For where two or three gather in my name\, there am I with them.” – Matthew 18:20
URL:https://slw.sunlightchurch.com/calendar/two-or-more-prayer-group-40/
LOCATION:Classroom A
END:VEVENT
BEGIN:VEVENT
DTSTART;TZID=America/New_York:20250227T183000
DTEND;TZID=America/New_York:20250227T203000
DTSTAMP:20260422T154240
CREATED:20241122T164413Z
LAST-MODIFIED:20241218T061006Z
UID:13023-1740681000-1740688200@slw.sunlightchurch.com
SUMMARY:Middle School Youth Group
DESCRIPTION:Calling all 6th-8th graders! Join our Youth Group on Thursdays from 6:30-8:30 p.m. It’s a place to belong and grow in the gospel. Don’t miss out on this opportunity to connect\, have fun\, and discover your true self!
URL:https://slw.sunlightchurch.com/calendar/middle-school-youth-group-87/
LOCATION:PGA Campus
END:VEVENT
BEGIN:VEVENT
DTSTART;TZID=America/New_York:20250227T100000
DTEND;TZID=America/New_York:20250227T113000
DTSTAMP:20260422T154240
CREATED:20241121T164211Z
LAST-MODIFIED:20250227T095710Z
UID:13012-1740650400-1740655800@slw.sunlightchurch.com
SUMMARY:Women's Community Group: The Lens
DESCRIPTION:Led by: Pam Torr\nThis group meets weekly to study various Bible topics throughout the year .
URL:https://slw.sunlightchurch.com/calendar/womens-community-group-the-lens-24/
LOCATION:Classroom A
END:VEVENT
BEGIN:VEVENT
DTSTART;TZID=America/New_York:20250227T070000
DTEND;TZID=America/New_York:20250227T080000
DTSTAMP:20260422T154240
CREATED:20241121T164210Z
LAST-MODIFIED:20250227T095710Z
UID:13011-1740639600-1740643200@slw.sunlightchurch.com
SUMMARY:Public Reading of Scripture
DESCRIPTION:Public Reading of Scripture helps us remember who God is\, who we are\, and who God calls us to be. If you try to read through the whole Bible on your own\, it’s easy to get sidetracked. Listening in a community provides a natural community. This is an easy\, accessible way for anyone to get into Scripture. Join this group led by our Senior Pastor\, Scott Vander Ploeg! \nWe spend about 45 min listening to a dramatic reading of scripture (NLT). Then we spend 15 min talking about what we thought about. Join us online or in-person in Classroom B! \nZOOM Meeting ID: 860 9487 1173Passcode: Sunlight
URL:https://slw.sunlightchurch.com/calendar/public-reading-of-scripture-224/
LOCATION:Classroom B & Zoom
END:VEVENT
BEGIN:VEVENT
DTSTART;TZID=America/New_York:20250226T190000
DTEND;TZID=America/New_York:20250226T210000
DTSTAMP:20260422T154240
CREATED:20241121T164210Z
LAST-MODIFIED:20250226T094612Z
UID:13010-1740596400-1740603600@slw.sunlightchurch.com
SUMMARY:Bible Study "The Path"
DESCRIPTION:
URL:https://slw.sunlightchurch.com/calendar/bible-study-the-path-56/
LOCATION:Classroom C
END:VEVENT
BEGIN:VEVENT
DTSTART;TZID=America/New_York:20250226T190000
DTEND;TZID=America/New_York:20250226T210000
DTSTAMP:20260422T154240
CREATED:20241121T164209Z
LAST-MODIFIED:20250226T094612Z
UID:13009-1740596400-1740603600@slw.sunlightchurch.com
SUMMARY:Life Transformation Co-Ed Group
DESCRIPTION:
URL:https://slw.sunlightchurch.com/calendar/life-transformation-co-ed-group-101/
LOCATION:Classroom A
END:VEVENT
BEGIN:VEVENT
DTSTART;TZID=America/New_York:20250226T180000
DTEND;TZID=America/New_York:20250226T193000
DTSTAMP:20260422T154240
CREATED:20241121T164209Z
LAST-MODIFIED:20250226T094613Z
UID:13008-1740592800-1740598200@slw.sunlightchurch.com
SUMMARY:St. Lucie County Jail Ministry
DESCRIPTION:
URL:https://slw.sunlightchurch.com/calendar/st-lucie-county-jail-ministry-35/
LOCATION:900 N Rock Rd\, Fort Pierce\, FL\, United States
END:VEVENT
BEGIN:VEVENT
DTSTART;TZID=America/New_York:20250226T130000
DTEND;TZID=America/New_York:20250226T143000
DTSTAMP:20260422T154240
CREATED:20241121T164208Z
LAST-MODIFIED:20250226T094612Z
UID:13007-1740574800-1740580200@slw.sunlightchurch.com
SUMMARY:Women's Bible Study: Romans
DESCRIPTION:Join our Women’s Bible Study\, led by Pam Shyrock\, in person or on Zoom. Let’s grow together in faith.–Join Us Online Here:https://us02web.zoom.us/j/88966303486?pwd=TCt1VkxZc2RETDNwQm04MjdybTdWUT09–Meeting ID: 889 6630 3486Passcode: sunlight
URL:https://slw.sunlightchurch.com/calendar/womens-bible-study-romans-22/
LOCATION:Classroom A
END:VEVENT
BEGIN:VEVENT
DTSTART;TZID=America/New_York:20250226T130000
DTEND;TZID=America/New_York:20250226T140000
DTSTAMP:20260422T154240
CREATED:20241121T164208Z
LAST-MODIFIED:20250226T094611Z
UID:13006-1740574800-1740578400@slw.sunlightchurch.com
SUMMARY:Co-Ed Heidelberg Catechism
DESCRIPTION:Join our Heidelberg Catechism Group for spiritual growth! Mondays or Wednesdays\, at 5:00pm (varies). Connect in person at the home group or on Zoom. Led by Jesus Bayona & Carol Soka.
URL:https://slw.sunlightchurch.com/calendar/co-ed-heidelberg-catechism-23/
LOCATION:Home Group & Zoom – Hybrid
END:VEVENT
BEGIN:VEVENT
DTSTART;TZID=America/New_York:20250226T110000
DTEND;TZID=America/New_York:20250226T130000
DTSTAMP:20260422T154240
CREATED:20241214T040400Z
LAST-MODIFIED:20250226T094611Z
UID:13183-1740567600-1740574800@slw.sunlightchurch.com
SUMMARY:Womens Craft Group
DESCRIPTION:Calling all crafty women! Join Sandra McGibbons and Sandy Wallace on the 4th Wednesday each month\, 11am-1pm\, in Classroom A. Let’s craft and have fun together!–Join Here:https://sunlightcc.churchcenter.com/groups/port-st-lucie-campus/women-s-craft-group
URL:https://slw.sunlightchurch.com/calendar/womens-craft-group-22/
LOCATION:Classroom A
END:VEVENT
BEGIN:VEVENT
DTSTART;TZID=America/New_York:20250226T110000
DTEND;TZID=America/New_York:20250226T123000
DTSTAMP:20260422T154240
CREATED:20241121T164207Z
LAST-MODIFIED:20250226T094611Z
UID:13005-1740567600-1740573000@slw.sunlightchurch.com
SUMMARY:Women's Support and Encouragement Group
DESCRIPTION:Joyce Bellis & Pat TeskeWednesday on the 1st & 3rd & occasional 5th Wednesday of each month.  \nThis is an open-ended group facilitated by Pat Teske and JoyceBellis for women of Sunlight Community Church who wish to bond and share their feelings and supportone another.  It is designed to focus on how God can guide you insupporting and loving other members as you struggle or celebrate your own lifeexperiences.This group provides a safe place where you can share your concernsand feelings and learn how to love one another as God loves you.  You canlearn that you can look to God and learn how you can place your concerns at thefoot of the Cross and leave it in the hands of Jesus\, our Savior\, who was sentby our Lord to die for you and give you eternal life.   Doing this cangive you the freedom to receive God’s love and pass it on. \n Join Here!https://sunlightcc.churchcenter.com/groups/port-st-lucie-campus/women-s-support-and-encouragement-group
URL:https://slw.sunlightchurch.com/calendar/womens-support-and-encouragement-group-80/
LOCATION:Classroom B
END:VEVENT
BEGIN:VEVENT
DTSTART;TZID=America/New_York:20250226T093000
DTEND;TZID=America/New_York:20250226T113000
DTSTAMP:20260422T154240
CREATED:20241121T164207Z
LAST-MODIFIED:20250226T094612Z
UID:13004-1740562200-1740569400@slw.sunlightchurch.com
SUMMARY:Moms Group
DESCRIPTION:
URL:https://slw.sunlightchurch.com/calendar/moms-group-42/
END:VEVENT
BEGIN:VEVENT
DTSTART;TZID=America/New_York:20250225T190000
DTEND;TZID=America/New_York:20250225T210000
DTSTAMP:20260422T154240
CREATED:20241120T161420Z
LAST-MODIFIED:20241218T060948Z
UID:12992-1740510000-1740517200@slw.sunlightchurch.com
SUMMARY:Pickleball
DESCRIPTION:
URL:https://slw.sunlightchurch.com/calendar/pickleball-24/
LOCATION:Fellowship Hall
END:VEVENT
BEGIN:VEVENT
DTSTART;TZID=America/New_York:20250225T190000
DTEND;TZID=America/New_York:20250225T200000
DTSTAMP:20260422T154240
CREATED:20241120T161421Z
LAST-MODIFIED:20250225T094115Z
UID:12993-1740510000-1740513600@slw.sunlightchurch.com
SUMMARY:Women's Zoom Bible Study - Exodus
DESCRIPTION:Are you looking for an online Bible Study specifically for women? Join this group led by Beth Hernandez & Winnie Jean Louis on Zoom! In the book of Genesis\, we learn about the beginning of the world\, ourselves\, and the world as we know it today. Most importantly\, we learn about a good God who is committed to his creation and is actively involved in guiding it toward good again! Join us as we discover our stories in the beginning of the story!
URL:https://slw.sunlightchurch.com/calendar/womens-zoom-bible-study-exodus-56/
LOCATION:Zoom
END:VEVENT
BEGIN:VEVENT
DTSTART;TZID=America/New_York:20250225T183000
DTEND;TZID=America/New_York:20250225T203000
DTSTAMP:20260422T154240
CREATED:20241217T055818Z
LAST-MODIFIED:20250225T094115Z
UID:13215-1740508200-1740515400@slw.sunlightchurch.com
SUMMARY:MS/HS Youth Group
DESCRIPTION:
URL:https://slw.sunlightchurch.com/calendar/ms-hs-youth-group-11/
LOCATION:Sunlight Community Church of Port Saint Lucie\, 5801 NW Lisa Ct\, Port Saint Lucie\, FL\, United States
END:VEVENT
BEGIN:VEVENT
DTSTART;TZID=America/New_York:20250225T183000
DTEND;TZID=America/New_York:20250225T203000
DTSTAMP:20260422T154240
CREATED:20241120T161420Z
LAST-MODIFIED:20241216T041844Z
UID:12991-1740508200-1740515400@slw.sunlightchurch.com
SUMMARY:High School Youth Group
DESCRIPTION:Calling all 9th-12th graders! Join our Youth Group from 6:30-8:30 p.m. It's a place to belong and grow in the gospel. Don't miss out on this opportunity to connect\, have fun\, and discover your true self!
URL:https://slw.sunlightchurch.com/calendar/high-school-youth-group-61/
LOCATION:PGA Campus
END:VEVENT
END:VCALENDAR